BEGIN:VCALENDAR
VERSION:2.0
PRODID:-//Ascension Leadership Academy - ECPv6.5.2//NONSGML v1.0//EN
CALSCALE:GREGORIAN
METHOD:PUBLISH
X-WR-CALNAME:Ascension Leadership Academy
X-ORIGINAL-URL:https://ascensionleadership.org
X-WR-CALDESC:Events for Ascension Leadership Academy
REFRESH-INTERVAL;VALUE=DURATION:PT1H
X-Robots-Tag:noindex
X-PUBLISHED-TTL:PT1H
BEGIN:VTIMEZONE
TZID:America/Chicago
BEGIN:DAYLIGHT
TZOFFSETFROM:-0600
TZOFFSETTO:-0500
TZNAME:CDT
DTSTART:20210314T080000
END:DAYLIGHT
BEGIN:STANDARD
TZOFFSETFROM:-0500
TZOFFSETTO:-0600
TZNAME:CST
DTSTART:20211107T070000
END:STANDARD
END:VTIMEZONE
BEGIN:VEVENT
DTSTART;VALUE=DATE:20211001
DTEND;VALUE=DATE:20211004
DTSTAMP:20260424T202356
CREATED:20210714T161001Z
LAST-MODIFIED:20210714T161001Z
UID:10000156-1633046400-1633305599@ascensionleadership.org
SUMMARY:Race Weekend
DESCRIPTION:Stay tuned for possible schedule changes related to Talladega Race Weekend
URL:https://ascensionleadership.org/event/race-weekend-2/
END:VEVENT
BEGIN:VEVENT
DTSTART;TZID=America/Chicago:20211011T080000
DTEND;TZID=America/Chicago:20211011T150000
DTSTAMP:20260424T202356
CREATED:20210714T161051Z
LAST-MODIFIED:20211008T202635Z
UID:10000157-1633939200-1633964400@ascensionleadership.org
SUMMARY:Columbus Day (school closed)
DESCRIPTION:
URL:https://ascensionleadership.org/event/columbus-day/
END:VEVENT
BEGIN:VEVENT
DTSTART;VALUE=DATE:20211019
DTEND;VALUE=DATE:20211020
DTSTAMP:20260424T202356
CREATED:20210714T161158Z
LAST-MODIFIED:20210714T161158Z
UID:10000158-1634601600-1634687999@ascensionleadership.org
SUMMARY:End of 9-Week Reporting Period
DESCRIPTION:
URL:https://ascensionleadership.org/event/end-of-9-week-reporting-period/
END:VEVENT
END:VCALENDAR