BEGIN:VCALENDAR
VERSION:2.0
PRODID:-//Ascension Leadership Academy - ECPv6.5.2//NONSGML v1.0//EN
CALSCALE:GREGORIAN
METHOD:PUBLISH
X-ORIGINAL-URL:https://ascensionleadership.org
X-WR-CALDESC:Events for Ascension Leadership Academy
REFRESH-INTERVAL;VALUE=DURATION:PT1H
X-Robots-Tag:noindex
X-PUBLISHED-TTL:PT1H
BEGIN:VTIMEZONE
TZID:America/Chicago
BEGIN:DAYLIGHT
TZOFFSETFROM:-0600
TZOFFSETTO:-0500
TZNAME:CDT
DTSTART:20240310T080000
END:DAYLIGHT
BEGIN:STANDARD
TZOFFSETFROM:-0500
TZOFFSETTO:-0600
TZNAME:CST
DTSTART:20241103T070000
END:STANDARD
END:VTIMEZONE
BEGIN:VEVENT
DTSTART;TZID=America/Chicago:20240315T180000
DTEND;TZID=America/Chicago:20240315T210000
DTSTAMP:20260423T003654
CREATED:20230911T134051Z
LAST-MODIFIED:20230911T134051Z
UID:10000222-1710525600-1710536400@ascensionleadership.org
SUMMARY:Spring Fling
DESCRIPTION:
URL:https://ascensionleadership.org/event/spring-fling/
END:VEVENT
BEGIN:VEVENT
DTSTART;TZID=America/Chicago:20240321T080000
DTEND;TZID=America/Chicago:20240321T170000
DTSTAMP:20260423T003654
CREATED:20230830T142413Z
LAST-MODIFIED:20230830T144058Z
UID:10000201-1711008000-1711040400@ascensionleadership.org
SUMMARY:3rd Grading Period Ends
DESCRIPTION:
URL:https://ascensionleadership.org/event/report-card-grades-due-3/
END:VEVENT
BEGIN:VEVENT
DTSTART;VALUE=DATE:20240325
DTEND;VALUE=DATE:20240330
DTSTAMP:20260423T003654
CREATED:20230830T143905Z
LAST-MODIFIED:20230830T145128Z
UID:10000214-1711324800-1711756799@ascensionleadership.org
SUMMARY:Spring Break
DESCRIPTION:
URL:https://ascensionleadership.org/event/spring-break-4/
END:VEVENT
BEGIN:VEVENT
DTSTART;VALUE=DATE:20240329
DTEND;VALUE=DATE:20240330
DTSTAMP:20260423T003654
CREATED:20220629T203703Z
LAST-MODIFIED:20230830T140122Z
UID:10000191-1711670400-1711756799@ascensionleadership.org
SUMMARY:Good Friday
DESCRIPTION:
URL:https://ascensionleadership.org/event/good-friday-holiday/
END:VEVENT
END:VCALENDAR